Workbook

Sheet 수출 대행 24 신청서 (작성)
B2: 부천시-KOTRA 수출 유망 패키지 지원사업 신청서 [KOTRA 수출 24 글로벌 대행 (舊 해외시장정보 조사 대행)] | I2: 설명
B4: 1. 기업 정보 | I4: 1. 기업정보
B5: 기업명 | E5: 사업자번호 | I5: ㅇ 기업명, 사업자번호, 주소 입력 ㅇ 제조기업 여부 * 제조기업 만 지원 가능 ㅇ 제조기업 유형 * 관련 증빙 제출 필수 - 직접 : 신청 기업 소유(혹은 임대)의 제조시설에서 제품을 ‘직접’ 생산 (공장등록증, 임대 계약서 등) - 간접 : 신청 기업이 제3자를 통해 제품을 ‘간접’ 생산 (OEM 계약서 등)
B6: 주소
B7: 제조기업 여부 | C7: 네 | E7: 제조기업 유형 (택1)
B8: 2. 대표자 정보 | I8: 2. 대표자 정보
B9: 성명 | D9: 연락처 | F9: 이메일 | I9: ㅇ 성명, 연락처, 이메일 입력
B11: 3. 담당자 정보 | I11: 3. 담당자 정보
B12: 성명 | D12: 연락처 | F12: 이메일 | I12: ㅇ 성명, 연락처, 이메일 입력
B14: 4. 신청 정보 | I14: 4. 신청 정보
B15: 사업 접수번호 | I15: ㅇ 사업 접수 번호 : 첨부 매뉴얼 참고하여 사업 접수 후 해당 번호 입력 ㅇ 조사 유형 : 총 15가시 유형 중 택 (예) 거래 교신 지원 ㅇ 조사 무역관 (국가) : 해당 조사 유형 수행 무역관 (국가) 입력 (예) 도쿄 (일본) ㅇ 총 납부금액 : 상기 조사 내용 관련 총 납부금액 입력
B16: 조사 유형 1 (▼택1) | E16: 조사 무역관 (국가) 1
B17: 조사 유형 2 (▼택1) | E17: 조사 무역관 (국가) 2
B18: 조사 유형 3 (▼택1) | E18: 조사 무역관 (국가) 3
B19: 조사 유형 4 (▼택1) | E19: 조사 무역관 (국가) 4
B20: 조사 유형 5 (▼택1) | E20: 조사 무역관 (국가) 5
B21: 총 납부 금액 (원)
B22: 5. 기타 참고 및 요청 사항 | I22: 5. 기타 참고 사항
B23: 기타 사항 | I23: ㅇ 기타 참고 사항 입력

Sheet 신청서 (숨김)
B2: 1. 기업정보 | G2: 2. 대표자 정보 | J2: 3. 담당자 정보 | M2: 4. 신청정보 | Q2: 5. 기타 참고 및 요청사항
B3: 기업명 | C3: 사업자번호 | D3: 주소 | E3: 제조기업 여부 | F3: 제조기업 유형 (택1) | G3: 성명 | H3: 연락처 | I3: 이메일 | J3: 성명 | K3: 연락처 | L3: 이메일 | M3: 사업 접수번호 | N3: 조사유형 | O3: 조사 무역관 (국가) | P3: 총 납부 금액 | Q3: 기타 사항
B4: ='수출 대행 24 신청서 (작성)'!C5 -> 0 | C4: ='수출 대행 24 신청서 (작성)'!F5 -> 0 | D4: ='수출 대행 24 신청서 (작성)'!C6 -> 0 | E4: ='수출 대행 24 신청서 (작성)'!C7 -> 네 | F4: ='수출 대행 24 신청서 (작성)'!F7 -> 0 | G4: ='수출 대행 24 신청서 (작성)'!C9 -> 0 | H4: ='수출 대행 24 신청서 (작성)'!E9 -> 0 | I4: ='수출 대행 24 신청서 (작성)'!G9 -> 0 | J4: ='수출 대행 24 신청서 (작성)'!C12 -> 0 | K4: ='수출 대행 24 신청서 (작성)'!E12 -> 0 | L4: ='수출 대행 24 신청서 (작성)'!G12 -> 0 | M4: ='수출 대행 24 신청서 (작성)'!C15 -> 0 | N4: ='수출 대행 24 신청서 (작성)'!C16 -> 0 | O4: ='수출 대행 24 신청서 (작성)'!F16 -> 0 | P4: ='수출 대행 24 신청서 (작성)'!C21 -> 0 | Q4: ='수출 대행 24 신청서 (작성)'!C23 -> 0
N5: ='수출 대행 24 신청서 (작성)'!C17 -> 0 | O5: ='수출 대행 24 신청서 (작성)'!F17 -> 0
N6: ='수출 대행 24 신청서 (작성)'!C18 -> 0 | O6: ='수출 대행 24 신청서 (작성)'!F18 -> 0
N7: ='수출 대행 24 신청서 (작성)'!C19 -> 0 | O7: ='수출 대행 24 신청서 (작성)'!F19 -> 0
N8: ='수출 대행 24 신청서 (작성)'!C20 -> 0 | O8: ='수출 대행 24 신청서 (작성)'!F20 -> 0

Sheet 목록 (숨김)
B2: 네 | C2: 직접 | D2: 부천시 수출 유망 패키지 [KOTRA 수출 24 글로벌 대행 (舊 해외시장정보)] | E2: 항목별 시장조사
C3: 간접 | D3: 부천시 수출 유망 패키지 [KOTRA 해외 지사화] | E3: 맞춤형 지원 서비스
D4: 부천시 수출 유망 패키지 [KOTRA 해외 공동 물류] | E4: 현지 매장 방문조사
E5: 소비자 트랜드 설문조사
E6: 샘플 테스트 조사
E7: 사업 파트너 연결지원
E8: 거래선 관심도 조사
E9: 원부자재 공급선 조사
E10: 바이어 구매 성향 조사
E11: 해외 비즈니스 출장 지원
E12: 거래 교신 지원
E13: 샘플 대리 전달
E14: 대리 면담 지원
E15: 바이어 실태조사
E16: 전시회 대리 참관
